BEGIN:VCALENDAR
VERSION:2.0
PRODID:-//Colegio George Chaytor - ECPv6.15.20//NONSGML v1.0//EN
CALSCALE:GREGORIAN
METHOD:PUBLISH
X-WR-CALNAME:Colegio George Chaytor
X-ORIGINAL-URL:https://www.georgechaytor.cl
X-WR-CALDESC:Eventos para Colegio George Chaytor
REFRESH-INTERVAL;VALUE=DURATION:PT1H
X-Robots-Tag:noindex
X-PUBLISHED-TTL:PT1H
BEGIN:VTIMEZONE
TZID:America/Halifax
BEGIN:DAYLIGHT
TZOFFSETFROM:-0400
TZOFFSETTO:-0300
TZNAME:ADT
DTSTART:20230312T060000
END:DAYLIGHT
BEGIN:STANDARD
TZOFFSETFROM:-0300
TZOFFSETTO:-0400
TZNAME:AST
DTSTART:20231105T050000
END:STANDARD
BEGIN:DAYLIGHT
TZOFFSETFROM:-0400
TZOFFSETTO:-0300
TZNAME:ADT
DTSTART:20240310T060000
END:DAYLIGHT
BEGIN:STANDARD
TZOFFSETFROM:-0300
TZOFFSETTO:-0400
TZNAME:AST
DTSTART:20241103T050000
END:STANDARD
BEGIN:DAYLIGHT
TZOFFSETFROM:-0400
TZOFFSETTO:-0300
TZNAME:ADT
DTSTART:20250309T060000
END:DAYLIGHT
BEGIN:STANDARD
TZOFFSETFROM:-0300
TZOFFSETTO:-0400
TZNAME:AST
DTSTART:20251102T050000
END:STANDARD
END:VTIMEZONE
BEGIN:VEVENT
DTSTART;TZID=America/Halifax:20240515T180000
DTEND;TZID=America/Halifax:20240515T193000
DTSTAMP:20260423T032552
CREATED:20240509T124258Z
LAST-MODIFIED:20240509T124258Z
UID:1896-1715796000-1715801400@www.georgechaytor.cl
SUMMARY:Parents Academy
DESCRIPTION:Estimados/as Padres\, Madres y Apoderados/as: \nJunto con saludar\, con mucho agrado queremos informarles que daremos inicio a nuestra «Parents Academy»\, un ciclo de charlas destinadas a nuestros apoderados/as\, con la finalidad de abordar con profesionales externos temáticas relacionadas con la trayectoria educativa de sus hijos/as. \nEn esta ocasión queremos invitarlos a la charla «El Impacto de la Lectura en el Desarrollo Cognitivo y Emocional de Estudiantes de Educación Primaria en Chile: Una Mirada desde las Neurociencias Cognitivas” dirigida a nuestros apoderados de Kinder a 2do Básico. \nEsta actividad se desarrollará el miércoles 15 de mayo a partir de las 18:00 en el patio de ajedrez de nuestro colegio. Las inscripciones se pueden realizar en el link adjunto. \nhttps://forms.office.com/r/0SdnTv74Ys \nLos esperamos.
URL:https://www.georgechaytor.cl/evento/parents-academy/
ATTACH;FMTTYPE=image/png:https://www.georgechaytor.cl/wp-content/uploads/2024/05/Invitacion-Charla.png
END:VEVENT
END:VCALENDAR