BEGIN:VCALENDAR
VERSION:2.0
PRODID:-//Colegio George Chaytor - ECPv6.15.20//NONSGML v1.0//EN
CALSCALE:GREGORIAN
METHOD:PUBLISH
X-WR-CALNAME:Colegio George Chaytor
X-ORIGINAL-URL:https://www.georgechaytor.cl
X-WR-CALDESC:Eventos para Colegio George Chaytor
REFRESH-INTERVAL;VALUE=DURATION:PT1H
X-Robots-Tag:noindex
X-PUBLISHED-TTL:PT1H
BEGIN:VTIMEZONE
TZID:America/Halifax
BEGIN:DAYLIGHT
TZOFFSETFROM:-0400
TZOFFSETTO:-0300
TZNAME:ADT
DTSTART:20220313T060000
END:DAYLIGHT
BEGIN:STANDARD
TZOFFSETFROM:-0300
TZOFFSETTO:-0400
TZNAME:AST
DTSTART:20221106T050000
END:STANDARD
BEGIN:DAYLIGHT
TZOFFSETFROM:-0400
TZOFFSETTO:-0300
TZNAME:ADT
DTSTART:20230312T060000
END:DAYLIGHT
BEGIN:STANDARD
TZOFFSETFROM:-0300
TZOFFSETTO:-0400
TZNAME:AST
DTSTART:20231105T050000
END:STANDARD
BEGIN:DAYLIGHT
TZOFFSETFROM:-0400
TZOFFSETTO:-0300
TZNAME:ADT
DTSTART:20240310T060000
END:DAYLIGHT
BEGIN:STANDARD
TZOFFSETFROM:-0300
TZOFFSETTO:-0400
TZNAME:AST
DTSTART:20241103T050000
END:STANDARD
BEGIN:DAYLIGHT
TZOFFSETFROM:-0400
TZOFFSETTO:-0300
TZNAME:ADT
DTSTART:20250309T060000
END:DAYLIGHT
BEGIN:STANDARD
TZOFFSETFROM:-0300
TZOFFSETTO:-0400
TZNAME:AST
DTSTART:20251102T050000
END:STANDARD
BEGIN:DAYLIGHT
TZOFFSETFROM:-0400
TZOFFSETTO:-0300
TZNAME:ADT
DTSTART:20260308T060000
END:DAYLIGHT
BEGIN:STANDARD
TZOFFSETFROM:-0300
TZOFFSETTO:-0400
TZNAME:AST
DTSTART:20261101T050000
END:STANDARD
END:VTIMEZONE
BEGIN:VEVENT
DTSTART;TZID=America/Halifax:20251107T080000
DTEND;TZID=America/Halifax:20251107T130000
DTSTAMP:20260421T123107
CREATED:20251027T174630Z
LAST-MODIFIED:20251027T174630Z
UID:2508-1762502400-1762520400@www.georgechaytor.cl
SUMMARY:Despedida IVº Medios
DESCRIPTION:
URL:https://www.georgechaytor.cl/evento/despedida-ivo-medios/
END:VEVENT
BEGIN:VEVENT
DTSTART;VALUE=DATE:20251105
DTEND;VALUE=DATE:20251107
DTSTAMP:20260421T123107
CREATED:20251027T173921Z
LAST-MODIFIED:20251027T173921Z
UID:2500-1762300800-1762473599@www.georgechaytor.cl
SUMMARY:Aplicación Simce 4º Básicos
DESCRIPTION:
URL:https://www.georgechaytor.cl/evento/aplicacion-simce-4o-basicos/
END:VEVENT
BEGIN:VEVENT
DTSTART;TZID=America/Halifax:20250911T193000
DTEND;TZID=America/Halifax:20250911T220000
DTSTAMP:20260421T123107
CREATED:20250911T114904Z
LAST-MODIFIED:20250911T114904Z
UID:2409-1757619000-1757628000@www.georgechaytor.cl
SUMMARY:Gala Folclórica 2025 "Sembrando Tradiciones" En vivo
DESCRIPTION:📢✨ ¡3ª Noche Gala Foclorica High School! \nCon el objetivo de controlar los aforos y permitir que más familias puedan vivir este gran momento\, informamos que la Gala Folclórica del jueves 11 de septiembre será transmitida en vivo a través de nuestro canal de YouTube 🎥🔴. \n💻 Los dejamos cordialmente invitados a conectarse y acompañarnos desde cualquier lugar de Chile\, para compartir este mágico momento de aprendizaje y homenaje a nuestra patria 🇨🇱. \n👉 Ingresa aquí para ver la transmisión:\n🔗 YouTube Live – Galas Folclóricas 2025 \n#GalasFolclóricas2025 #GCEC #FiestasPatrias #EnVivo
URL:https://www.georgechaytor.cl/evento/gala-folclorica-2025-sembrando-tradiciones-en-vivo/
ATTACH;FMTTYPE=image/jpeg:https://www.georgechaytor.cl/wp-content/uploads/2025/09/LIVE-VELADA-FOLCLORICA-2024.jpg
END:VEVENT
BEGIN:VEVENT
DTSTART;TZID=America/Halifax:20250910T193000
DTEND;TZID=America/Halifax:20250910T210000
DTSTAMP:20260421T123107
CREATED:20250910T162837Z
LAST-MODIFIED:20250910T162837Z
UID:2405-1757532600-1757538000@www.georgechaytor.cl
SUMMARY:Gala folclórica 2025 "Sembrando Chile" En vivo
DESCRIPTION:📢✨ ¡Atención comunidad Chaytoriana!\nCon el objetivo de controlar los aforos y permitir que más familias puedan vivir este gran momento\, informamos que la Gala Folclórica del miércoles 10 y jueves 11 de septiembre será transmitida en vivo a través de nuestro canal de YouTube 🎥🔴.\n💻 Los dejamos cordialmente invitados a conectarse y acompañarnos desde cualquier lugar de Chile\, para compartir este mágico momento de aprendizaje y homenaje a nuestra patria 🇨🇱.\n👉 Ingresa aquí para ver la transmisión:\n🔗 YouTube Live – Galas Folclóricas 2025\n#GalasFolclóricas2025 #GCEC #FiestasPatrias #EnVivo
URL:https://www.georgechaytor.cl/evento/gala-folclorica-2025-sembrando-chile-en-vivo/
ATTACH;FMTTYPE=image/jpeg:https://www.georgechaytor.cl/wp-content/uploads/2025/09/LIVE-VELADA-FOLCLORICA-2024.jpg
END:VEVENT
BEGIN:VEVENT
DTSTART;TZID=America/Halifax:20241002T181500
DTEND;TZID=America/Halifax:20241002T200000
DTSTAMP:20260421T123107
CREATED:20240928T144250Z
LAST-MODIFIED:20240928T144250Z
UID:2031-1727892900-1727899200@www.georgechaytor.cl
SUMMARY:Parents Academy: ¿Como apoyar a mi hijo en el proceso de electividad 2025?
DESCRIPTION:📢 ¡Atención Apoderados de Iº y IIº Medio! 📢 \nLes invitamos cordialmente a una charla informativa sobre el proceso de electividad 2025 y la implementación del Decreto de Evaluación N°67. 📝✨ \n🗓 Fecha: 02 de octubre.\n⏰ Hora: 18:15\n📍 Lugar: Hall Pabellón Elementary \nEste es un espacio fundamental para conocer cómo se llevará a cabo la elección de asignaturas para el próximo año\, y para comprender a fondo el sistema de evaluación que se aplicará según la normativa actual. ¡Es una oportunidad clave para acompañar a nuestros estudiantes en sus decisiones y apoyar su formación académica! 💡🎓 \n¡Los esperamos! 😊
URL:https://www.georgechaytor.cl/evento/parents-academy-como-apoyar-a-mi-hijo-en-el-proceso-de-electividad-2025/
ATTACH;FMTTYPE=image/jpeg:https://www.georgechaytor.cl/wp-content/uploads/2024/09/IMG_5298.jpg
END:VEVENT
BEGIN:VEVENT
DTSTART;TZID=America/Halifax:20240629T100000
DTEND;TZID=America/Halifax:20240629T140000
DTSTAMP:20260421T123107
CREATED:20240627T161832Z
LAST-MODIFIED:20240627T161832Z
UID:1967-1719655200-1719669600@www.georgechaytor.cl
SUMMARY:1º Torneo de Ajedrez George Chaytor
DESCRIPTION:Invitación al Torneo de Ajedrez  George Chaytor English College \nGeorge Chaytor English College tiene el placer de invitar a toda la comunidad al Torneo de Ajedrez que se celebrará este sábado 29 de junio\, a partir de las 10:00 am. Este emocionante evento se llevará a cabo en nuestras instalaciones y está abierto a estudiantes en diversas categorías: \n\nSub 8\nSub 10\nSub 12\nSub 14\nSub 16\nSub 18\nAdultos (Solo Apoderados/as)\n\nEl torneo promete ser una jornada llena de estrategia\, concentración y competición amistosa. Invitamos a todos los aficionados al ajedrez\, tanto estudiantes como apoderados\, a unirse a nosotros en este día especial. Será una excelente oportunidad para demostrar habilidades\, aprender nuevas tácticas y disfrutar de una competición sana y divertida. \nNo pierdan la oportunidad de ser parte de este emocionante torneo. ¡Los esperamos! \n*Las inscripciones se pueden realizar el mismo día del evento. \n 
URL:https://www.georgechaytor.cl/evento/1o-torneo-de-ajedrez-george-chaytor/
ATTACH;FMTTYPE=image/jpeg:https://www.georgechaytor.cl/wp-content/uploads/2024/06/Torneo-Ajedrez.jpg
END:VEVENT
BEGIN:VEVENT
DTSTART;TZID=America/Halifax:20240515T180000
DTEND;TZID=America/Halifax:20240515T193000
DTSTAMP:20260421T123107
CREATED:20240509T124258Z
LAST-MODIFIED:20240509T124258Z
UID:1896-1715796000-1715801400@www.georgechaytor.cl
SUMMARY:Parents Academy
DESCRIPTION:Estimados/as Padres\, Madres y Apoderados/as: \nJunto con saludar\, con mucho agrado queremos informarles que daremos inicio a nuestra «Parents Academy»\, un ciclo de charlas destinadas a nuestros apoderados/as\, con la finalidad de abordar con profesionales externos temáticas relacionadas con la trayectoria educativa de sus hijos/as. \nEn esta ocasión queremos invitarlos a la charla «El Impacto de la Lectura en el Desarrollo Cognitivo y Emocional de Estudiantes de Educación Primaria en Chile: Una Mirada desde las Neurociencias Cognitivas” dirigida a nuestros apoderados de Kinder a 2do Básico. \nEsta actividad se desarrollará el miércoles 15 de mayo a partir de las 18:00 en el patio de ajedrez de nuestro colegio. Las inscripciones se pueden realizar en el link adjunto. \nhttps://forms.office.com/r/0SdnTv74Ys \nLos esperamos.
URL:https://www.georgechaytor.cl/evento/parents-academy/
ATTACH;FMTTYPE=image/png:https://www.georgechaytor.cl/wp-content/uploads/2024/05/Invitacion-Charla.png
END:VEVENT
BEGIN:VEVENT
DTSTART;TZID=America/Halifax:20240430T080000
DTEND;TZID=America/Halifax:20240430T160000
DTSTAMP:20260421T123107
CREATED:20240425T162445Z
LAST-MODIFIED:20240425T162445Z
UID:1886-1714464000-1714492800@www.georgechaytor.cl
SUMMARY:Jornada Convivencia Escolar High School: "Aprender\, Crecer\, Convivir"
DESCRIPTION:Durante esta jornada haremos un alto en nuestras actividades académicas\, para revisar y convivir nuestro ambiente escolar. Con la compañía de instituciones externas\, profundizaremos en los siguientes objetivos: \n\nTrabajar temáticas relacionadas con la convivencia escolar\, considerando los aspectos de cada ciclo.\nAbordar de manera conjunta con profesores\, asistentes de la educación\, coordinadoras y apoderados la jornada de convivencia escolar.\n\nEsta jornada es un momento necesario para que todos y todas podamos construir y aportar a mejorar nuestra convivencia interna.
URL:https://www.georgechaytor.cl/evento/jornada-convivencia-escolar-high-school-aprender-crecer-convivir/
ATTACH;FMTTYPE=image/jpeg:https://www.georgechaytor.cl/wp-content/uploads/2024/04/2.jpg
END:VEVENT
BEGIN:VEVENT
DTSTART;TZID=America/Halifax:20240429T080000
DTEND;TZID=America/Halifax:20240429T150000
DTSTAMP:20260421T123107
CREATED:20240425T162249Z
LAST-MODIFIED:20240426T113544Z
UID:1880-1714377600-1714402800@www.georgechaytor.cl
SUMMARY:Jornada Convivencia Escolar Middle School y Elementary: "Aprender\, Crecer\, Convivir"
DESCRIPTION:Durante esta jornada haremos un alto en nuestras actividades académicas\, para revisar y convivir nuestro ambiente escolar. Con la compañía de instituciones externas\, profundizaremos en los siguientes objetivos: \n\nTrabajar temáticas relacionadas con la convivencia escolar\, considerando los aspectos de cada ciclo.\nAbordar de manera conjunta con profesores\, asistentes de la educación\, coordinadoras y apoderados la jornada de convivencia escolar.\n\nEsta jornada es un momento necesario para que todos y todas podamos construir y aportar a mejorar nuestra convivencia interna.
URL:https://www.georgechaytor.cl/evento/jornada-convivencia-escolar-middle-school-aprender-crecer-convivir/
ATTACH;FMTTYPE=image/jpeg:https://www.georgechaytor.cl/wp-content/uploads/2024/04/www.georgechaytor.cl-2.jpg
END:VEVENT
BEGIN:VEVENT
DTSTART;TZID=America/Halifax:20240416T080000
DTEND;TZID=America/Halifax:20240416T090000
DTSTAMP:20260421T123107
CREATED:20240415T202928Z
LAST-MODIFIED:20240415T202928Z
UID:1872-1713254400-1713258000@www.georgechaytor.cl
SUMMARY:Acto Buenos Días "Convivencia Escolar"
DESCRIPTION:Nuestro Equipo de Convivencia Escolar lidera nuestro Acto Cívico del mes de abril\, donde tendremos la oportunidad de recordar las efemérides del mes de abril.
URL:https://www.georgechaytor.cl/evento/acto-buenos-dias-convivencia-escolar/
ATTACH;FMTTYPE=image/jpeg:https://www.georgechaytor.cl/wp-content/uploads/2024/04/www.georgechaytor.cl-1.jpg
END:VEVENT
BEGIN:VEVENT
DTSTART;VALUE=DATE:20240401
DTEND;VALUE=DATE:20240403
DTSTAMP:20260421T123107
CREATED:20240328T150008Z
LAST-MODIFIED:20240328T150008Z
UID:1845-1711929600-1712102399@www.georgechaytor.cl
SUMMARY:Dia Mundial Concientización del Autismo
DESCRIPTION:En el marco del “Día mundial de la Concientización del Autismo” les informamos que el lunes 01 de abril en el horario de Orientación y Consejo de Curso\, realizaremos un taller destinado a la Concientización sobre el Autismo\, considerando como fecha clave el 02 de abril\, día que se celebra a nivel mundial. \nEs fundamental destacar que necesitamos su colaboración como apoderados para avanzar\, la cual debe reflejarse en actos de empatía al hablar sobre diferentes temas y al ver la diversidad como un espacio para el crecimiento. \nSaludos cordiales.
URL:https://www.georgechaytor.cl/evento/dia-mundial-concientizacion-del-autismo/
ATTACH;FMTTYPE=image/png:https://www.georgechaytor.cl/wp-content/uploads/2024/03/4.png
END:VEVENT
BEGIN:VEVENT
DTSTART;VALUE=DATE:20231127
DTEND;VALUE=DATE:20231128
DTSTAMP:20260421T123107
CREATED:20230928T115942Z
LAST-MODIFIED:20230928T115942Z
UID:1633-1701043200-1701129599@www.georgechaytor.cl
SUMMARY:Iº Emotionland
DESCRIPTION:La Feria de las Emociones es un evento único que busca explorar y celebrar la riqueza de las emociones humanas a través del trabajo de nuestros estudiantes de 6º Básico. Creemos que comprender y expresar nuestras emociones es esencial para el crecimiento personal y el bienestar emocional\, y queremos compartir esta experiencia enriquecedora con todos ustedes.
URL:https://www.georgechaytor.cl/evento/io-emotionland/
ATTACH;FMTTYPE=image/png:https://www.georgechaytor.cl/wp-content/uploads/2023/09/Captura-de-pantalla-2023-09-28-a-las-08.50.44.png
END:VEVENT
BEGIN:VEVENT
DTSTART;TZID=America/Halifax:20231122T080000
DTEND;TZID=America/Halifax:20231123T140000
DTSTAMP:20260421T123107
CREATED:20231117T121831Z
LAST-MODIFIED:20231117T121831Z
UID:1679-1700640000-1700748000@www.georgechaytor.cl
SUMMARY:IV FERIA DE HISTORIA\, GEOGRAFÍA Y FILOSOFÍA
DESCRIPTION:Nos complace invitarlos cordialmente a nuestra emocionante Feria de Historia\, donde exploraremos juntos los intrincados pasajes del tiempo y descubriremos las fascinantes historias que han dado forma a nuestro mundo. \nÚnanse a nosotros para sumergirse en un viaje a través de épocas pasadas\, descubrir eventos trascendentales y explorar las vidas de personajes históricos que han dejado una marca indeleble en la humanidad. La feria contará con presentaciones interactivas\, exhibiciones cautivadoras y actividades participativas que harán que la historia cobre vida de una manera única y memorable. \nEste evento no solo es una oportunidad para enriquecer nuestros conocimientos históricos\, sino también para fomentar el diálogo y la comunidad entre todos nosotros\, apasionados por comprender el pasado para dar forma a un futuro mejor. \nEsperamos contar con su grata presencia y entusiasmo en esta celebración de la historia.
URL:https://www.georgechaytor.cl/evento/iv-feria-de-historia-geografia-y-filosofia/
ATTACH;FMTTYPE=image/jpeg:https://www.georgechaytor.cl/wp-content/uploads/2023/11/IV-FERIA-DE-HISTORIA.jpg
END:VEVENT
BEGIN:VEVENT
DTSTART;VALUE=DATE:20230629
DTEND;VALUE=DATE:20230630
DTSTAMP:20260421T123107
CREATED:20230523T132316Z
LAST-MODIFIED:20230523T132316Z
UID:1316-1687996800-1688083199@www.georgechaytor.cl
SUMMARY:Jornada de Evaluación 1º Semestre
DESCRIPTION:En esta jornada nuestros docentes de cada ciclo\, evaluarán las acciones realizadas\, reflexionando respecto a los contenidos abordados durante el semestre y las respectivas remediales para trabajar los contenidos más débiles.
URL:https://www.georgechaytor.cl/evento/jornada-de-evaluacion-1o-semestre/
LOCATION:Colegio Chaytor
END:VEVENT
END:VCALENDAR