BEGIN:VCALENDAR
VERSION:2.0
PRODID:-//Colegio George Chaytor - ECPv6.15.20//NONSGML v1.0//EN
CALSCALE:GREGORIAN
METHOD:PUBLISH
X-WR-CALNAME:Colegio George Chaytor
X-ORIGINAL-URL:https://www.georgechaytor.cl
X-WR-CALDESC:Eventos para Colegio George Chaytor
REFRESH-INTERVAL;VALUE=DURATION:PT1H
X-Robots-Tag:noindex
X-PUBLISHED-TTL:PT1H
BEGIN:VTIMEZONE
TZID:America/Halifax
BEGIN:DAYLIGHT
TZOFFSETFROM:-0400
TZOFFSETTO:-0300
TZNAME:ADT
DTSTART:20240310T060000
END:DAYLIGHT
BEGIN:STANDARD
TZOFFSETFROM:-0300
TZOFFSETTO:-0400
TZNAME:AST
DTSTART:20241103T050000
END:STANDARD
BEGIN:DAYLIGHT
TZOFFSETFROM:-0400
TZOFFSETTO:-0300
TZNAME:ADT
DTSTART:20250309T060000
END:DAYLIGHT
BEGIN:STANDARD
TZOFFSETFROM:-0300
TZOFFSETTO:-0400
TZNAME:AST
DTSTART:20251102T050000
END:STANDARD
BEGIN:DAYLIGHT
TZOFFSETFROM:-0400
TZOFFSETTO:-0300
TZNAME:ADT
DTSTART:20260308T060000
END:DAYLIGHT
BEGIN:STANDARD
TZOFFSETFROM:-0300
TZOFFSETTO:-0400
TZNAME:AST
DTSTART:20261101T050000
END:STANDARD
BEGIN:DAYLIGHT
TZOFFSETFROM:-0400
TZOFFSETTO:-0300
TZNAME:ADT
DTSTART:20270314T060000
END:DAYLIGHT
BEGIN:STANDARD
TZOFFSETFROM:-0300
TZOFFSETTO:-0400
TZNAME:AST
DTSTART:20271107T050000
END:STANDARD
END:VTIMEZONE
BEGIN:VEVENT
DTSTART;VALUE=DATE:20251201
DTEND;VALUE=DATE:20251206
DTSTAMP:20260421T194613
CREATED:20251201T145240Z
LAST-MODIFIED:20251201T145240Z
UID:2534-1764547200-1764979199@www.georgechaytor.cl
SUMMARY:Evaluaciones de Sintesis
DESCRIPTION:Periodo en el cual nuestros estudiantes\, tienen la posibilidad de rendir las evaluaciones que pudieran estar pendientes durante el desarrollo del semestre.
URL:https://www.georgechaytor.cl/evento/evaluaciones-de-sintesis/
END:VEVENT
BEGIN:VEVENT
DTSTART;TZID=America/Halifax:20251203T150000
DTEND;TZID=America/Halifax:20251204T170000
DTSTAMP:20260421T194613
CREATED:20251201T145106Z
LAST-MODIFIED:20251201T145106Z
UID:2532-1764774000-1764867600@www.georgechaytor.cl
SUMMARY:Ceremonia "Mi primera lectura"
DESCRIPTION:
URL:https://www.georgechaytor.cl/evento/ceremonia-mi-primera-lectura/
END:VEVENT
BEGIN:VEVENT
DTSTART;VALUE=DATE:20251205
DTEND;VALUE=DATE:20251207
DTSTAMP:20260421T194613
CREATED:20251201T145426Z
LAST-MODIFIED:20251201T145426Z
UID:2537-1764892800-1765065599@www.georgechaytor.cl
SUMMARY:FCE Cambridge Examination
DESCRIPTION:
URL:https://www.georgechaytor.cl/evento/fce-cambridge-examination/
END:VEVENT
BEGIN:VEVENT
DTSTART;VALUE=DATE:20251211
DTEND;VALUE=DATE:20251212
DTSTAMP:20260421T194613
CREATED:20251201T145604Z
LAST-MODIFIED:20251201T145604Z
UID:2539-1765411200-1765497599@www.georgechaytor.cl
SUMMARY:Acto finalización "Año 2025" / Ultimo dia de clases.
DESCRIPTION:
URL:https://www.georgechaytor.cl/evento/acto-finalizacion-ano-2025-ultimo-dia-de-clases/
END:VEVENT
BEGIN:VEVENT
DTSTART;VALUE=DATE:20251217
DTEND;VALUE=DATE:20251218
DTSTAMP:20260421T194613
CREATED:20251201T145724Z
LAST-MODIFIED:20251201T145724Z
UID:2541-1765929600-1766015999@www.georgechaytor.cl
SUMMARY:Finalizacion Kinder / Open House 1º Básicos 2026
DESCRIPTION:
URL:https://www.georgechaytor.cl/evento/finalizacion-kinder-open-house-1o-basicos-2026/
END:VEVENT
BEGIN:VEVENT
DTSTART;VALUE=DATE:20251219
DTEND;VALUE=DATE:20251220
DTSTAMP:20260421T194613
CREATED:20251201T145903Z
LAST-MODIFIED:20251201T145903Z
UID:2545-1766102400-1766188799@www.georgechaytor.cl
SUMMARY:Desayuno Estudiantes Destacados
DESCRIPTION:
URL:https://www.georgechaytor.cl/evento/desayuno-estudiantes-destacados/
END:VEVENT
BEGIN:VEVENT
DTSTART;TZID=America/Halifax:20260225T090000
DTEND;TZID=America/Halifax:20260225T123000
DTSTAMP:20260421T194613
CREATED:20260209T141505Z
LAST-MODIFIED:20260209T141505Z
UID:2585-1772010000-1772022600@www.georgechaytor.cl
SUMMARY:Bienvenida nuevos estudiantes High y Middle School
DESCRIPTION:Con la finalidad de favorecer un inicio de año escolar gradual\, ordenado y óptimo para nuestros estudiantes\, el establecimiento ha definido que el Año Escolar 2026 comenzará de manera diferenciada por niveles\, conforme al siguiente calendario: \n\n📌 Martes 25 de febrero de 2026\nHorario: 09:00 a 12:30 horas\nActividad: Jornada de inducción y bienvenida para estudiantes nuevos\nNiveles: High School y Middle School. (Incluidos todos nuestros estudiantes que cursen 1º Básico 2026).
URL:https://www.georgechaytor.cl/evento/bienvenida-nuevos-estudiantes-high-y-middle-school/
ATTACH;FMTTYPE=image/jpeg:https://www.georgechaytor.cl/wp-content/uploads/2026/02/Post-Inicio-de-clases.jpg
END:VEVENT
BEGIN:VEVENT
DTSTART;TZID=America/Halifax:20260226T080000
DTEND;TZID=America/Halifax:20260226T130000
DTSTAMP:20260421T194613
CREATED:20260209T142750Z
LAST-MODIFIED:20260209T142750Z
UID:2588-1772092800-1772110800@www.georgechaytor.cl
SUMMARY:Ingreso Estudiantes Antiguos Middle y High School 2026
DESCRIPTION:Junto con saludarles cordialmente\, esperamos que se encuentren muy bien. \nCon la finalidad de favorecer un inicio de año escolar gradual\, ordenado y óptimo para nuestros estudiantes\, el establecimiento ha definido que el Año Escolar 2026 comenzará de manera diferenciada por niveles\, conforme al siguiente calendario: \n📌 Miércoles 26 de febrero de 2026 \n\nHorario: 08:00 a 13:00 horas.\nActividad: Ingreso de estudiantes antiguos.\nNiveles: High School y Middle School.
URL:https://www.georgechaytor.cl/evento/ingreso-estudiantes-antiguos-middle-y-high-school-2026/
ATTACH;FMTTYPE=image/jpeg:https://www.georgechaytor.cl/wp-content/uploads/2026/02/Post-Inicio-de-clases.jpg
END:VEVENT
BEGIN:VEVENT
DTSTART;TZID=America/Halifax:20260302T083000
DTEND;TZID=America/Halifax:20260302T123000
DTSTAMP:20260421T194613
CREATED:20260209T143351Z
LAST-MODIFIED:20260209T143351Z
UID:2590-1772440200-1772454600@www.georgechaytor.cl
SUMMARY:Ingreso Estudiantes Elementary
DESCRIPTION:Junto con saludarles cordialmente\, esperamos que se encuentren muy bien. \nCon la finalidad de favorecer un inicio de año escolar gradual\, ordenado y óptimo para nuestros estudiantes\, el establecimiento ha definido que el Año Escolar 2026 comenzará de manera diferenciada por niveles\, conforme al siguiente calendario: \n📌 Lunes 2 de marzo de 2026 \n\nHorario: 08:30 a 12:30 horas\nActividad: Ingreso niveles iniciales\nNiveles: Playgroup\, Prekínder y Kínder.\n\nEsta modalidad de ingreso tiene como propósito acompañar adecuadamente a nuestros estudiantes en el proceso de adaptación\, asegurando un ambiente de bienvenida\, contención y organización acorde a las necesidades de cada nivel. \nAgradecemos desde ya su atención\, apoyo y colaboración\, elementos fundamentales para iniciar juntos un nuevo año académico con tranquilidad y confianza.
URL:https://www.georgechaytor.cl/evento/ingreso-estudiantes-elementary/
ATTACH;FMTTYPE=image/jpeg:https://www.georgechaytor.cl/wp-content/uploads/2026/02/Post-Inicio-de-clases.jpg
END:VEVENT
END:VCALENDAR